BEGIN:VCALENDAR
VERSION:2.0
PRODID:-//wp-events-plugin.com//7.1.2//EN
TZID:Europe/London
X-WR-TIMEZONE:Europe/London
BEGIN:VEVENT
UID:15@gx4mws.uk
DTSTART;TZID=Europe/London:20211206T193000
DTEND;TZID=Europe/London:20211206T220000
DTSTAMP:20210923T105953Z
URL:https://www.gx4mws.uk/events/christmas-quiz/
SUMMARY:Christmas Quiz
DESCRIPTION:Greg\, M0TXX will be hosting this years Christmas Quiz
LOCATION:Packhorse Bowling Club\, Abbey Road\, Macclesfield\, SK10 3AT\, Un
 ited Kingdom
X-APPLE-STRUCTURED-LOCATION;VALUE=URI;X-ADDRESS=Abbey Road\, Macclesfield\,
  SK10 3AT\, United Kingdom;X-APPLE-RADIUS=100;X-TITLE=Packhorse Bowling Cl
 ub:geo:0,0
END:VEVENT
BEGIN:VTIMEZONE
TZID:Europe/London
X-LIC-LOCATION:Europe/London
BEGIN:STANDARD
DTSTART:20211031T010000
TZOFFSETFROM:+0100
TZOFFSETTO:+0000
TZNAME:GMT
END:STANDARD
END:VTIMEZONE
END:VCALENDAR