BEGIN:VCALENDAR
VERSION:2.0
PRODID:-//wp-events-plugin.com//7.1.2//EN
TZID:Europe/London
X-WR-TIMEZONE:Europe/London
BEGIN:VEVENT
UID:264@gx4mws.uk
DTSTART;TZID=Europe/London:20230424T183000
DTEND;TZID=Europe/London:20230424T230000
DTSTAMP:20230406T081817Z
URL:https://www.gx4mws.uk/events/peak-district-sota/
SUMMARY:Peak District SOTA
DESCRIPTION:Tonight will see club members climbing our local SOTA summits.\
 n\nTeam Kinder Scout G/SP-001:\nTeam Shining Tor G/SP-002:\nTeam Gunn Moor
  G/SP-013:\nTeam The Cloud G/SP-015:\n\nTeam Shack:
CATEGORIES:Meeting
END:VEVENT
BEGIN:VTIMEZONE
TZID:Europe/London
X-LIC-LOCATION:Europe/London
BEGIN:DAYLIGHT
DTSTART:20230326T020000
TZOFFSETFROM:+0000
TZOFFSETTO:+0100
TZNAME:BST
END:DAYLIGHT
END:VTIMEZONE
END:VCALENDAR